BEGIN:VCALENDAR
VERSION:2.0
PRODID:-//Tukios.com/
BEGIN:VEVENT
UID:9b7ae5ea-2961-44c6-950f-c42d04524fb3@www.clarkfuneralhawkinsville.com
DTSTAMP:20260425T214924Z
DTSTART:20260426T190000Z
DTEND:20260426T200000Z
SUMMARY:Funeral Service
DESCRIPTION:
URL:https://www.clarkfuneralhawkinsville.com/obituaries/willie-cobb
LOCATION: 142 Commerce Street  Hawkinsville GA 31036
GEO:32.282962;-83.4690647
END:VEVENT
END:VCALENDAR