BEGIN:VCALENDAR
VERSION:2.0
PRODID:-//Tukios.com/
BEGIN:VEVENT
UID:74486632-aae9-42ec-8827-612f8280ed94@www.clarkfuneralhawkinsville.com
DTSTAMP:20260425T215106Z
DTSTART:20260426T170000Z
DTEND:20260426T184500Z
SUMMARY:Visitation
DESCRIPTION:
URL:https://www.clarkfuneralhawkinsville.com/obituaries/willie-cobb
LOCATION: 142 Commerce Street  Hawkinsville GA 31036
GEO:32.282962;-83.4690647
END:VEVENT
END:VCALENDAR