BEGIN:VCALENDAR
VERSION:2.0
PRODID:-//Tukios.com/
BEGIN:VEVENT
UID:3ae84a26-75b1-4422-a70d-d15d7403ebb3@www.clarkfuneralhawkinsville.com
DTSTAMP:20260421T172431Z
DTSTART:20260424T170000Z
DTEND:20260424T180000Z
SUMMARY:Funeral Service
DESCRIPTION:
URL:https://www.clarkfuneralhawkinsville.com/obituaries/cathy-liggett
LOCATION: 142 Commerce Street  Hawkinsville GA 31036
GEO:32.282962;-83.4690647
END:VEVENT
END:VCALENDAR