BEGIN:VCALENDAR
VERSION:2.0
PRODID:-//Tukios.com/
BEGIN:VEVENT
UID:68bb8bad-c54d-4dee-acc8-1f49a2faf802@www.clarkfuneralhawkinsville.com
DTSTAMP:20260421T172456Z
DTSTART:20260423T220000Z
DTEND:20260424T000000Z
SUMMARY:Visitation
DESCRIPTION:
URL:https://www.clarkfuneralhawkinsville.com/obituaries/cathy-liggett
LOCATION:Clark Funeral Home 142 Commerce St  Hawkinsville GA 31036
GEO:32.282962;-83.4690647
END:VEVENT
END:VCALENDAR